BEGIN:VCALENDAR
VERSION:2.0
PRODID:-//The Danish American Archive and Library - ECPv6.15.20//NONSGML v1.0//EN
CALSCALE:GREGORIAN
METHOD:PUBLISH
X-ORIGINAL-URL:https://danishamericanarchive.com
X-WR-CALDESC:Events for The Danish American Archive and Library
REFRESH-INTERVAL;VALUE=DURATION:PT1H
X-Robots-Tag:noindex
X-PUBLISHED-TTL:PT1H
BEGIN:VTIMEZONE
TZID:America/Chicago
BEGIN:DAYLIGHT
TZOFFSETFROM:-0600
TZOFFSETTO:-0500
TZNAME:CDT
DTSTART:20240310T080000
END:DAYLIGHT
BEGIN:STANDARD
TZOFFSETFROM:-0500
TZOFFSETTO:-0600
TZNAME:CST
DTSTART:20241103T070000
END:STANDARD
BEGIN:DAYLIGHT
TZOFFSETFROM:-0600
TZOFFSETTO:-0500
TZNAME:CDT
DTSTART:20250309T080000
END:DAYLIGHT
BEGIN:STANDARD
TZOFFSETFROM:-0500
TZOFFSETTO:-0600
TZNAME:CST
DTSTART:20251102T070000
END:STANDARD
BEGIN:DAYLIGHT
TZOFFSETFROM:-0600
TZOFFSETTO:-0500
TZNAME:CDT
DTSTART:20260308T080000
END:DAYLIGHT
BEGIN:STANDARD
TZOFFSETFROM:-0500
TZOFFSETTO:-0600
TZNAME:CST
DTSTART:20261101T070000
END:STANDARD
BEGIN:DAYLIGHT
TZOFFSETFROM:-0600
TZOFFSETTO:-0500
TZNAME:CDT
DTSTART:20270314T080000
END:DAYLIGHT
BEGIN:STANDARD
TZOFFSETFROM:-0500
TZOFFSETTO:-0600
TZNAME:CST
DTSTART:20271107T070000
END:STANDARD
END:VTIMEZONE
BEGIN:VEVENT
DTSTART;TZID=America/Chicago:20250617T080000
DTEND;TZID=America/Chicago:20250617T160000
DTSTAMP:20260421T140816
CREATED:20250513T195634Z
LAST-MODIFIED:20250513T195634Z
UID:2682-1750147200-1750176000@danishamericanarchive.com
SUMMARY:Dana Volunteer Days
DESCRIPTION:We had so much fun last summer\, we decided to do it again. Come join us for a couple of hours or a couple of days – whatever works for you. We’ll be here from 8am – 4pm\, and as always we’ll have coffee and treats at 10am and 3pm.
URL:https://danishamericanarchive.com/event/dana-volunteer-days/
LOCATION:Danish American Archive & Library\, 1738 Washington\, Blair\, Nebraska\, 68008
END:VEVENT
BEGIN:VEVENT
DTSTART;TZID=America/Chicago:20250618T080000
DTEND;TZID=America/Chicago:20250618T160000
DTSTAMP:20260421T140816
CREATED:20250513T195747Z
LAST-MODIFIED:20250513T195911Z
UID:2684-1750233600-1750262400@danishamericanarchive.com
SUMMARY:Dana Volunteer Days
DESCRIPTION:We had so much fun last summer\, we decided to do it again. Come join us for a couple of hours or a couple of days – whatever works for you. We’ll be here from 8am – 4pm\, and as always we’ll have coffee and treats at 10am and 3pm.
URL:https://danishamericanarchive.com/event/dana-volunteer-days-2/
LOCATION:Danish American Archive & Library\, 1738 Washington\, Blair\, Nebraska\, 68008
END:VEVENT
BEGIN:VEVENT
DTSTART;TZID=America/Chicago:20250619T080000
DTEND;TZID=America/Chicago:20250619T160000
DTSTAMP:20260421T140816
CREATED:20250513T195818Z
LAST-MODIFIED:20250513T195844Z
UID:2686-1750320000-1750348800@danishamericanarchive.com
SUMMARY:Dana Volunteer Days
DESCRIPTION:We had so much fun last summer\, we decided to do it again. Come join us for a couple of hours or a couple of days – whatever works for you. We’ll be here from 8am – 4pm\, and as always we’ll have coffee and treats at 10am and 3pm.
URL:https://danishamericanarchive.com/event/dana-volunteer-days-3/
LOCATION:Danish American Archive & Library\, 1738 Washington\, Blair\, Nebraska\, 68008
END:VEVENT
BEGIN:VEVENT
DTSTART;VALUE=DATE:20250825
DTEND;VALUE=DATE:20250902
DTSTAMP:20260421T140816
CREATED:20250513T163935Z
LAST-MODIFIED:20250728T211203Z
UID:2679-1756080000-1756771199@danishamericanarchive.com
SUMMARY:DAAL closed for Summer Break
DESCRIPTION:
URL:https://danishamericanarchive.com/event/daal-closed-for-summer-break/
LOCATION:Danish American Archive & Library\, 1738 Washington\, Blair\, Nebraska\, 68008
END:VEVENT
BEGIN:VEVENT
DTSTART;TZID=America/Chicago:20251004T090000
DTEND;TZID=America/Chicago:20251004T110000
DTSTAMP:20260421T140816
CREATED:20250903T151446Z
LAST-MODIFIED:20250903T151543Z
UID:2723-1759568400-1759575600@danishamericanarchive.com
SUMMARY:Kringle & Mingle
DESCRIPTION:Stop in for coffee and treats!
URL:https://danishamericanarchive.com/event/kringle-mingle/
LOCATION:Danish American Archive & Library\, 1738 Washington\, Blair\, Nebraska\, 68008
END:VEVENT
BEGIN:VEVENT
DTSTART;VALUE=DATE:20251006
DTEND;VALUE=DATE:20251011
DTSTAMP:20260421T140816
CREATED:20250728T211039Z
LAST-MODIFIED:20250728T211039Z
UID:2704-1759708800-1760140799@danishamericanarchive.com
SUMMARY:Fall Volunteer Week
DESCRIPTION:
URL:https://danishamericanarchive.com/event/fall-volunteer-week/
LOCATION:Danish American Archive & Library\, 1738 Washington\, Blair\, Nebraska\, 68008
END:VEVENT
BEGIN:VEVENT
DTSTART;VALUE=DATE:20251127
DTEND;VALUE=DATE:20251129
DTSTAMP:20260421T140816
CREATED:20241111T222722Z
LAST-MODIFIED:20250728T210632Z
UID:2540-1764201600-1764374399@danishamericanarchive.com
SUMMARY:Closed for Thanksgiving
DESCRIPTION:
URL:https://danishamericanarchive.com/event/closed-for-thanksgiving/
LOCATION:Danish American Archive & Library\, 1738 Washington\, Blair\, Nebraska\, 68008
END:VEVENT
BEGIN:VEVENT
DTSTART;VALUE=DATE:20251219
DTEND;VALUE=DATE:20251229
DTSTAMP:20260421T140816
CREATED:20241111T223056Z
LAST-MODIFIED:20250728T210839Z
UID:2545-1766102400-1766966399@danishamericanarchive.com
SUMMARY:Closed for Winter Break
DESCRIPTION:
URL:https://danishamericanarchive.com/event/closed-for-winter-break/
LOCATION:Danish American Archive & Library\, 1738 Washington\, Blair\, Nebraska\, 68008
END:VEVENT
BEGIN:VEVENT
DTSTART;VALUE=DATE:20260101
DTEND;VALUE=DATE:20260102
DTSTAMP:20260421T140816
CREATED:20241111T223149Z
LAST-MODIFIED:20250728T211348Z
UID:2547-1767225600-1767311999@danishamericanarchive.com
SUMMARY:Closed for New Year’s Holiday
DESCRIPTION:
URL:https://danishamericanarchive.com/event/closed-for-new-years-holiday/
LOCATION:Danish American Archive & Library\, 1738 Washington\, Blair\, Nebraska\, 68008
END:VEVENT
BEGIN:VEVENT
DTSTART;VALUE=DATE:20260119
DTEND;VALUE=DATE:20260120
DTSTAMP:20260421T140816
CREATED:20260108T155244Z
LAST-MODIFIED:20260108T155244Z
UID:2756-1768780800-1768867199@danishamericanarchive.com
SUMMARY:Closed for Tri-Archive meeting
DESCRIPTION:
URL:https://danishamericanarchive.com/event/closed-for-tri-archive-meeting/
LOCATION:Danish American Archive & Library\, 1738 Washington\, Blair\, Nebraska\, 68008
END:VEVENT
BEGIN:VEVENT
DTSTART;VALUE=DATE:20260616
DTEND;VALUE=DATE:20260619
DTSTAMP:20260421T140816
CREATED:20260206T161351Z
LAST-MODIFIED:20260206T161351Z
UID:2761-1781568000-1781827199@danishamericanarchive.com
SUMMARY:Dana College Volunteer Days 2026
DESCRIPTION:Plan to join us as we work on Dana College projects and reminisce over coffee and treats.
URL:https://danishamericanarchive.com/event/dana-college-volunteer-days-2026/
LOCATION:Danish American Archive & Library\, 1738 Washington\, Blair\, Nebraska\, 68008
END:VEVENT
END:VCALENDAR